BEGIN:VCALENDAR
VERSION:2.0
PRODID:-//ChamberMaster//Event Calendar 2.0//EN
METHOD:PUBLISH
X-PUBLISHED-TTL:P3D
REFRESH-INTERVAL:P3D
CALSCALE:GREGORIAN
BEGIN:VEVENT
DTSTART:20230824T150000Z
DTEND:20230824T170000Z
X-MICROSOFT-CDO-ALLDAYEVENT:FALSE
SUMMARY:Border Authority Workshop
DESCRIPTION:Informational Workshop/training
X-ALT-DESC;FMTTYPE=text/html:Informational Workshop/training&nbsp\;
LOCATION:Luna County Commissions Chambers 700 S. Silver Avenue
UID:e.2755.10285
SEQUENCE:3
DTSTAMP:20260423T020101Z
URL:http://demingchambernm.chambermaster.com/events/details/border-authority-workshop-10285
END:VEVENT

END:VCALENDAR
