BEGIN:VCALENDAR
VERSION:2.0
PRODID:-//ChamberMaster//Event Calendar 2.0//EN
METHOD:PUBLISH
X-PUBLISHED-TTL:P3D
REFRESH-INTERVAL:P3D
CALSCALE:GREGORIAN
BEGIN:VEVENT
DTSTART:20240317T000000Z
DTEND:20240317T070000Z
X-MICROSOFT-CDO-ALLDAYEVENT:FALSE
SUMMARY:St. Patrick's Day Bash
DESCRIPTION:Smalls Prez will be djing for St. Patrick's Day celebrations
X-ALT-DESC;FMTTYPE=text/html:Smalls Prez will be djing for St. Patrick&#39\;s Day celebrations
LOCATION:Rio Mimbres Country Club. 2500 E. Pine St\, Deming\, NM 88030
UID:e.2755.11869
SEQUENCE:3
DTSTAMP:20260423T082446Z
URL:http://demingchambernm.chambermaster.com/events/details/st-patrick-s-day-bash-11869
END:VEVENT

END:VCALENDAR
